BEGIN:VCALENDAR
VERSION:2.0
PRODID:-//Sankt. | Jugendkirche | Escape Room | Sankt.Pölten - ECPv6.15.20//NONSGML v1.0//EN
CALSCALE:GREGORIAN
METHOD:PUBLISH
X-WR-CALNAME:Sankt. | Jugendkirche | Escape Room | Sankt.Pölten
X-ORIGINAL-URL:https://sankt.online
X-WR-CALDESC:Veranstaltungen für Sankt. | Jugendkirche | Escape Room | Sankt.Pölten
REFRESH-INTERVAL;VALUE=DURATION:PT1H
X-Robots-Tag:noindex
X-PUBLISHED-TTL:PT1H
BEGIN:VTIMEZONE
TZID:Europe/Paris
BEGIN:DAYLIGHT
TZOFFSETFROM:+0100
TZOFFSETTO:+0200
TZNAME:CEST
DTSTART:20250330T010000
END:DAYLIGHT
BEGIN:STANDARD
TZOFFSETFROM:+0200
TZOFFSETTO:+0100
TZNAME:CET
DTSTART:20251026T010000
END:STANDARD
BEGIN:DAYLIGHT
TZOFFSETFROM:+0100
TZOFFSETTO:+0200
TZNAME:CEST
DTSTART:20260329T010000
END:DAYLIGHT
BEGIN:STANDARD
TZOFFSETFROM:+0200
TZOFFSETTO:+0100
TZNAME:CET
DTSTART:20261025T010000
END:STANDARD
BEGIN:DAYLIGHT
TZOFFSETFROM:+0100
TZOFFSETTO:+0200
TZNAME:CEST
DTSTART:20270328T010000
END:DAYLIGHT
BEGIN:STANDARD
TZOFFSETFROM:+0200
TZOFFSETTO:+0100
TZNAME:CET
DTSTART:20271031T010000
END:STANDARD
END:VTIMEZONE
BEGIN:VEVENT
DTSTART;TZID=Europe/Paris:20260111T103000
DTEND;TZID=Europe/Paris:20260111T130000
DTSTAMP:20260425T134155
CREATED:20240905T184218Z
LAST-MODIFIED:20250902T123529Z
UID:4624-1768127400-1768136400@sankt.online
SUMMARY:Community Sonntag
DESCRIPTION:Herzliche Einladung zum gemeinsamen Gebet in unserem Wohnzimmer. Im Anschluss gibt’s einen liebevollen Brunch und die Möglichkeit den Sonntag miteinander zu genießen.
URL:https://sankt.online/kalender/community-sonntag-16
LOCATION:Sankt\, Heitzlergasse 4\, St. Pölten\, Niederösterreich\, 3100\, Österreich
ORGANIZER;CN="Sankt.":MAILTO:Kontakt@sankt.online
END:VEVENT
BEGIN:VEVENT
DTSTART;TZID=Europe/Paris:20260125T183000
DTEND;TZID=Europe/Paris:20260125T200000
DTSTAMP:20260425T134155
CREATED:20240905T193653Z
LAST-MODIFIED:20250902T123625Z
UID:4659-1769365800-1769371200@sankt.online
SUMMARY:Junge Messe
DESCRIPTION:Erlebe und feier mit uns lebendige und inspirierende Junge Messe. Mit zeitgemäßer Musik\, inspirierenden Botschaften und einer Gemeinschaft junger Menschen\, die den Glauben teilen\, ist diese Messe ein Ort der Begegnung\, des Austauschs und des miteinadner Feierns. Egal\, ob du deine Spiritualität vertiefen\, Gleichgesinnte treffen oder einfach eine besondere Atmosphäre erleben möchtest – unsere Junge Messe bietet all das und mehr. Wir laden dich herzlich ein\, Teil unserer wachsenden Gemeinschaft junger Menschen zu sein\, die ihren Glauben auf eigene\, erfrischende Weise leben.
URL:https://sankt.online/kalender/junge-messe-12
LOCATION:St.Johannes Kapistran\, Josefstraße 90\, St. Pölten\, Niederösterreich\, 3100\, Österreich
CATEGORIES:Messe
ORGANIZER;CN="Sankt.":MAILTO:Kontakt@sankt.online
END:VEVENT
END:VCALENDAR