BEGIN:VCALENDAR
VERSION:2.0
PRODID:-//Sankt. | Jugendkirche | Escape Room | Sankt.Pölten - ECPv6.15.20//NONSGML v1.0//EN
CALSCALE:GREGORIAN
METHOD:PUBLISH
X-WR-CALNAME:Sankt. | Jugendkirche | Escape Room | Sankt.Pölten
X-ORIGINAL-URL:https://sankt.online
X-WR-CALDESC:Veranstaltungen für Sankt. | Jugendkirche | Escape Room | Sankt.Pölten
REFRESH-INTERVAL;VALUE=DURATION:PT1H
X-Robots-Tag:noindex
X-PUBLISHED-TTL:PT1H
BEGIN:VTIMEZONE
TZID:Europe/Paris
BEGIN:DAYLIGHT
TZOFFSETFROM:+0100
TZOFFSETTO:+0200
TZNAME:CEST
DTSTART:20250330T010000
END:DAYLIGHT
BEGIN:STANDARD
TZOFFSETFROM:+0200
TZOFFSETTO:+0100
TZNAME:CET
DTSTART:20251026T010000
END:STANDARD
BEGIN:DAYLIGHT
TZOFFSETFROM:+0100
TZOFFSETTO:+0200
TZNAME:CEST
DTSTART:20260329T010000
END:DAYLIGHT
BEGIN:STANDARD
TZOFFSETFROM:+0200
TZOFFSETTO:+0100
TZNAME:CET
DTSTART:20261025T010000
END:STANDARD
BEGIN:DAYLIGHT
TZOFFSETFROM:+0100
TZOFFSETTO:+0200
TZNAME:CEST
DTSTART:20270328T010000
END:DAYLIGHT
BEGIN:STANDARD
TZOFFSETFROM:+0200
TZOFFSETTO:+0100
TZNAME:CET
DTSTART:20271031T010000
END:STANDARD
END:VTIMEZONE
BEGIN:VEVENT
DTSTART;TZID=Europe/Paris:20260308T103000
DTEND;TZID=Europe/Paris:20260308T130000
DTSTAMP:20260425T120817
CREATED:20240905T183928Z
LAST-MODIFIED:20250902T123849Z
UID:4622-1772965800-1772974800@sankt.online
SUMMARY:Community Sonntag
DESCRIPTION:Herzliche Einladung zum gemeinsamen Gebet in unserem Wohnzimmer. Im Anschluss gibt’s einen liebevollen Brunch und die Möglichkeit den Sonntag miteinander zu genießen.
URL:https://sankt.online/kalender/community-sonntag-14
LOCATION:Sankt\, Heitzlergasse 4\, St. Pölten\, Niederösterreich\, 3100\, Österreich
ORGANIZER;CN="Sankt.":MAILTO:Kontakt@sankt.online
END:VEVENT
END:VCALENDAR