BEGIN:VCALENDAR
VERSION:2.0
PRODID:-//Sankt. | Jugendkirche | Escape Room | Sankt.Pölten - ECPv6.15.20//NONSGML v1.0//EN
CALSCALE:GREGORIAN
METHOD:PUBLISH
X-ORIGINAL-URL:https://sankt.online
X-WR-CALDESC:Veranstaltungen für Sankt. | Jugendkirche | Escape Room | Sankt.Pölten
REFRESH-INTERVAL;VALUE=DURATION:PT1H
X-Robots-Tag:noindex
X-PUBLISHED-TTL:PT1H
BEGIN:VTIMEZONE
TZID:Europe/Paris
BEGIN:DAYLIGHT
TZOFFSETFROM:+0100
TZOFFSETTO:+0200
TZNAME:CEST
DTSTART:20240331T010000
END:DAYLIGHT
BEGIN:STANDARD
TZOFFSETFROM:+0200
TZOFFSETTO:+0100
TZNAME:CET
DTSTART:20241027T010000
END:STANDARD
BEGIN:DAYLIGHT
TZOFFSETFROM:+0100
TZOFFSETTO:+0200
TZNAME:CEST
DTSTART:20250330T010000
END:DAYLIGHT
BEGIN:STANDARD
TZOFFSETFROM:+0200
TZOFFSETTO:+0100
TZNAME:CET
DTSTART:20251026T010000
END:STANDARD
BEGIN:DAYLIGHT
TZOFFSETFROM:+0100
TZOFFSETTO:+0200
TZNAME:CEST
DTSTART:20260329T010000
END:DAYLIGHT
BEGIN:STANDARD
TZOFFSETFROM:+0200
TZOFFSETTO:+0100
TZNAME:CET
DTSTART:20261025T010000
END:STANDARD
END:VTIMEZONE
BEGIN:VEVENT
DTSTART;VALUE=DATE:20251212
DTEND;VALUE=DATE:20251215
DTSTAMP:20260425T171652
CREATED:20240905T192823Z
LAST-MODIFIED:20250902T124828Z
UID:4632-1765497600-1765756799@sankt.online
SUMMARY:Adventwochenende
DESCRIPTION:Verbring ein Wochenende im Sankt mit Besinnung\, Gemeinschaft und Freude. Inmitten der hektischen Vorweihnachtszeit möchten wir uns Zeit nehmen\, um innezuhalten\, uns zu besinnen und die Vorfreude auf das kommende Weihnachtsfest gemeinsam zu erleben. DETAILS FOLGEN
URL:https://sankt.online/kalender/adventwochenende-2
LOCATION:Sankt\, Heitzlergasse 4\, St. Pölten\, Niederösterreich\, 3100\, Österreich
ORGANIZER;CN="Sankt.":MAILTO:Kontakt@sankt.online
END:VEVENT
END:VCALENDAR