BEGIN:VCALENDAR
VERSION:2.0
PRODID:-//Sankt. | Jugendkirche | Escape Room | Sankt.Pölten - ECPv6.15.20//NONSGML v1.0//EN
CALSCALE:GREGORIAN
METHOD:PUBLISH
X-ORIGINAL-URL:https://sankt.online
X-WR-CALDESC:Veranstaltungen für Sankt. | Jugendkirche | Escape Room | Sankt.Pölten
REFRESH-INTERVAL;VALUE=DURATION:PT1H
X-Robots-Tag:noindex
X-PUBLISHED-TTL:PT1H
BEGIN:VTIMEZONE
TZID:Europe/Paris
BEGIN:DAYLIGHT
TZOFFSETFROM:+0100
TZOFFSETTO:+0200
TZNAME:CEST
DTSTART:20240331T010000
END:DAYLIGHT
BEGIN:STANDARD
TZOFFSETFROM:+0200
TZOFFSETTO:+0100
TZNAME:CET
DTSTART:20241027T010000
END:STANDARD
BEGIN:DAYLIGHT
TZOFFSETFROM:+0100
TZOFFSETTO:+0200
TZNAME:CEST
DTSTART:20250330T010000
END:DAYLIGHT
BEGIN:STANDARD
TZOFFSETFROM:+0200
TZOFFSETTO:+0100
TZNAME:CET
DTSTART:20251026T010000
END:STANDARD
BEGIN:DAYLIGHT
TZOFFSETFROM:+0100
TZOFFSETTO:+0200
TZNAME:CEST
DTSTART:20260329T010000
END:DAYLIGHT
BEGIN:STANDARD
TZOFFSETFROM:+0200
TZOFFSETTO:+0100
TZNAME:CET
DTSTART:20261025T010000
END:STANDARD
END:VTIMEZONE
BEGIN:VEVENT
DTSTART;TZID=Europe/Paris:20251031T180000
DTEND;TZID=Europe/Paris:20251031T223000
DTSTAMP:20260425T185314
CREATED:20240905T192025Z
LAST-MODIFIED:20250902T124241Z
UID:4631-1761933600-1761949800@sankt.online
SUMMARY:Nacht der 1000 Lichter
DESCRIPTION:In einer Zeit\, in der die Welt oft von Hektik und Stress geprägt ist\, bietet diese Nacht einen einzigartigen Raum\, um innezuhalten. Mit Tausenden von Kerzen erleuchten wir den Dom von St.Pölten und schaffen eine Umgebung des Friedens und der Hoffnung. In vielen liebevollen\, stärkenden\, kreativen Stationen\, kannst du dich und dein Leben reflektieren. Egal\, ob du für persönliche Einkehr kommst\, um Verstorbenen zu gedenken oder einfach um diese wundervolle Stimmung zu erleben – du bist Willkommen!
URL:https://sankt.online/kalender/nacht-der-1000-lichter-2
LOCATION:Dom St.Pölten\, Domplatz 1\, St. Pölten\, Niederösterreich\, 3100\, Österreich
ORGANIZER;CN="Sankt.":MAILTO:Kontakt@sankt.online
END:VEVENT
END:VCALENDAR